BEGIN:VCALENDAR
VERSION:2.0
BEGIN:VEVENT
UID:69ea1e5bae666
DTSTAMP:20260423T132755Z
DTSTART;VALUE=DATE:20260429
DTEND;VALUE=DATE:20260501
SUMMARY:ChemExpo India 2026
END:VEVENT
END:VCALENDAR
